Workbook

Sheet 1
A1: Школа | B1: МБОУ - СОШ №15 имени М.В. Гордеева г. Орла | E1: Отд./корп | I1: День | J1: 45757
A3: Прием пищи | B3: Раздел | C3: № рец. | D3: Блюдо | E3: Выход, г | F3: Цена | G3: Калорийность | H3: Белки | I3: Жиры | J3: Углеводы
A4: Завтрак | B4: гор.блюдо | D4: =[1]Лист1!B83 -> биточки рыбные | E4: =[2]Лист1!C83 -> 100 | G4: =[2]Лист1!G83 -> 147.3 | H4: =[1]Лист1!D83 -> 11.3 | I4: =[1]Лист1!E83 -> 5.6 | J4: =[1]Лист1!F83 -> 13.3
B5: гарнир | D5: =[1]Лист1!B84 -> Рис отварной | E5: =[2]Лист1!C84 -> 180 | G5: =[2]Лист1!G84 -> 256.8 | H5: =[1]Лист1!D84 -> 4.32 | I5: =[1]Лист1!E84 -> 6.24 | J5: =[1]Лист1!F84 -> 45.12
B6: хлеб | D6: =[1]Лист1!B85 -> Хлеб ржаной / пшеничный | E6: =[2]Лист1!C85 -> 20/20 | G6: =[2]Лист1!G85 -> 104 | H6: =[1]Лист1!D85 -> 3 | I6: =[1]Лист1!E85 -> 1.2 | J6: =[1]Лист1!F85 -> 20
B7: гор.напиток | D7: =[1]Лист1!B86 -> Чай с сахаром с вит.С | E7: =[2]Лист1!C86 -> 200 | G7: =[2]Лист1!G86 -> 56 | H7: =[1]Лист1!D86 -> 0 | I7: =[1]Лист1!E86 -> - | J7: =[1]Лист1!F86 -> 14
D8: Итого | E8: 520 | F8: 80 | G8: =[2]Лист1!G87 -> 564.1 | H8: =[1]Лист1!D87 -> 18.62 | I8: =[1]Лист1!E87 -> 13.04 | J8: =[1]Лист1!F87 -> 92.42
A9: Завтрак 2 | B9: фрукты
B12: 1 блюдо | D12: =[3]Лист1!A104 -> Борщ из св. капусты | E12: =[4]Лист1!B104 -> 250 | G12: =[4]Лист1!F104 -> 90 | H12: =[3]Лист1!C104 -> 2 | I12: =[3]Лист1!D104 -> 5.24 | J12: =[3]Лист1!E104 -> 10.88
B13: 2 блюдо | D13: =[3]Лист1!A105 -> Печень по -строгановски | E13: =[4]Лист1!B105 -> 100 | G13: =[4]Лист1!F105 -> 156 | H13: =[3]Лист1!C105 -> 13.7 | I13: =[3]Лист1!D105 -> 12.26 | J13: =[3]Лист1!E105 -> 12.15
B14: гарнир | D14: =[3]Лист1!A106 -> Картофельное пюре | E14: =[4]Лист1!B106 -> 180 | G14: =[4]Лист1!F106 -> 134.4 | H14: =[3]Лист1!C106 -> 3.2 | I14: =[3]Лист1!D106 -> 1.2 | J14: =[3]Лист1!E106 -> 22.1
B15: напиток | D15: =[3]Лист1!A107 -> Чай с сахаром и лимоном | E15: =[4]Лист1!B107 -> 200 | G15: =[4]Лист1!F107 -> 56 | H15: =[3]Лист1!C107 -> 0 | I15: =[3]Лист1!D107 -> - | J15: =[3]Лист1!E107 -> 14
B16: хлеб бел. | D16: =[3]Лист1!A108 -> Хлеб пшен. | E16: =[4]Лист1!B108 -> 45 | G16: =[4]Лист1!F108 -> 117 | H16: =[3]Лист1!C108 -> 3.37 | I16: =[3]Лист1!D108 -> 1.35 | J16: =[3]Лист1!E108 -> 22.5
B17: хлеб черн. | D17: =[3]Лист1!A109 -> Хлеб ржан. | E17: =[4]Лист1!B109 -> 40 | G17: =[4]Лист1!F109 -> 91 | H17: =[3]Лист1!C109 -> 3 | I17: =[3]Лист1!D109 -> 1.2 | J17: =[3]Лист1!E109 -> 20
D18: Итого | E18: 815 | F18: 80 | G18: 645 | H18: 26 | I18: 22 | J18: 102
